BEGIN:VCALENDAR
VERSION:2.0
PRODID:-//hacksw/handcal//NONSGML v1.0//EN
BEGIN:VEVENT
SUMMARY:CRETEIL ( 94) CHPT REGIONAL pour TAE Distances Internationales le 21 juin 2026 (Les tirs se font a Chennevieres)
UID:ed4c4071-ea12-4471-90fb-b5ae9dcfd31e
DTSTART:20260620T220000Z
DTEND:20260621T220000Z
LOCATION:Localisation   
CATEGORIES:Sportif
STATUS:
DESCRIPTION:<p><b>CRETEIL (94)  <span
 style="color:#8e44ad;">Championnat Regional IdF </span>pour <span
 style="color:#8e44ad;">TAE en distances internationales</span> les 20
 et 21 jiun 2026 -     <span style="color:#d35400;"> (Les Tirs se
 font a Chennevieres)</span></b></p>
 
 <p>Si vous etes interesses  et
 que vous etes<strong> uniquement Archer du
 Donjon</strong>,  contactez le secretaire   <a
 href="mailto:secr.archersdonjon91@free.fr"><font size="2"><font
 face="Tahoma, Geneva, sans-serif"><span style="font-size:10pt;"><span
 style="font-family:Tahoma;">secr.archersdonjon91@free.fr</span></span></font></font></a>  </p>
 
 <p><strong>Pour
 vous inscrire lui preciser le jour et l'heure du depart, puis votre
 Nom et Prenom ainsi que  votre arme et  le  N° de
 licence </strong></p>
 
 <p><strong><em>Il est a noter que nous
 prenons en charge <u>qu'un seul engagement sur tous les
 departs</u> , concernant une meme arme (International et National
 son deux classement differents)</em></strong></p>
 
 <p><em>Attention,
 il faudra simplement presenter au greffe votre licence
 dematerialisee avec photo sur le support de votre choix (papier,
 portable tablette etc..). Vous pourrez l'accompagner de votre
 passeport d'Archer. En cas d'oubli de la licence, vous pourrez
 presenter une piece d'identite avec photo</em></p>
 
 <p><b><a
 href="https://admin.sportsregions.fr/media/uploaded/sites/3197/kcupload/files/CRETEIL%20Chpt%20R%C3%A9gional%20TAE%20DI%2020%20et%2021%20juin%202026.pdf"
 target="_blank" rel="noreferrer noopener"> MANDAT</a>       <a
 href="https://admin.sportsregions.fr/media/uploaded/sites/3197/kcupload/files/Plan%20Creteil.png"
 target="_blank" rel="noreferrer noopener">PLAN ACCES</a></b></p>
URL;VALUE=URI:https://archers-donjon-91.sportsregions.fr/evenements/2026/06/21/creteil-94-chpt-regional-pour-tae-distances-internationales-le-21-juin-2026-les-tirs-se-font-a-chennevieres-2443549
END:VEVENT
END:VCALENDAR
