BEGIN:VCALENDAR
VERSION:2.0
PRODID:-//hacksw/handcal//NONSGML v1.0//EN
BEGIN:VEVENT
SUMMARY:LAGNY TAE distances Internationales et Nationales les 20 et 20 juin 2026
UID:5073cac2-e929-4bc1-ab28-cdbd409696a5
DTSTART:20260619T220000Z
DTEND:20260621T220000Z
LOCATION:Localisation   
CATEGORIES:Sportif
STATUS:
DESCRIPTION:<p><b>LAGNY (77)  pour TAE International et National les
 20 et 21 juin 2026</b></p>
 
 <p>Si vous etes interesses  et que vous
 etes<strong> uniquement Archer du
 Donjon</strong>,  contactez le secretaire   <a
 href="mailto:secr.archersdonjon91@free.fr"><font size="2"><font
 face="Tahoma, Geneva, sans-serif"><span style="font-size:10pt;"><span
 style="font-family:Tahoma;">secr.archersdonjon91@free.fr</span></span></font></font></a>  </p>
 
 <p><strong>Pour
 vous inscrire lui preciser si Interrnational ou National ( ou les 2)
 avec jour et l'heure du depart, puis votre Nom et Prenom ainsi que 
 votre arme et  le  N° de licence </strong></p>
 
 <p><strong><em>Il
 est a noter que nous prenons en charge <u>qu'un seul engagement sur
 tous les departs</u> , concernant une meme arme (International et
 National son deux classement
 differents)</em></strong></p>
 
 <p><em>Attention, il faudra
 simplement presenter au greffe votre licence dematerialisee avec
 photo sur le support de votre choix (papier, portable tablette
 etc..). Vous pourrez l'accompagner de votre passeport d'Archer. En
 cas d'oubli de la licence, vous pourrez presenter une piece
 d'identite avec photo</em></p>
 
 <p><a
 href="https://admin.sportsregions.fr/media/uploaded/sites/3197/kcupload/files/LAGNY%20TAE%20DI%20DN%2021%20juin%202026.pdf"
 target="_blank" rel="noreferrer
 noopener"><strong>MANDAT</strong></a></p>
URL;VALUE=URI:https://archers-donjon-91.sportsregions.fr/evenements/2026/06/20/lagny-tae-distances-internationales-et-nationales-les-20-et-20-juin-2026-2443545
END:VEVENT
END:VCALENDAR
