BEGIN:VCALENDAR
VERSION:2.0
PRODID:-//hacksw/handcal//NONSGML v1.0//EN
BEGIN:VEVENT
SUMMARY:SCEAUX FONTENAY aux ROSES  TAE International et National les 13 et 14 juin 2026
UID:b540634e-2db8-491b-a953-d0d97d7045ec
DTSTART:20260612T220000Z
DTEND:20260614T220000Z
LOCATION:Localisation   
CATEGORIES:Sportif
STATUS:
DESCRIPTION:<p>SCEAUX FONTENAY aux ROSES     TAE distances
 Internationales et Nationales les 13 et 14 juin 2026 (supports DD 2
 eme etape DI et Challenge 92 DN)</p>
 
 <p>Si vous etes interesses  et
 que vous etes<strong> uniquement Archer du
 Donjon</strong>,  contactez le secretaire   <a
 href="mailto:secr.archersdonjon91@free.fr"><font size="2"><font
 face="Tahoma, Geneva, sans-serif"><span style="font-size:10pt;"><span
 style="font-family:Tahoma;">secr.archersdonjon91@free.fr</span></span></font></font></a>  </p>
 
 <p><strong>Pour
 vous inscrire lui preciser si Interrnational ou National ( ou les 2)
 avec jour et l'heure du depart, puis votre Nom et Prenom ainsi que 
 votre arme et  le  N° de licence </strong></p>
 
 <p><strong><em>Il
 est a noter que nous prenons en charge <u>qu'un seul engagement sur
 tous les departs</u> , concernant une meme arme (International et
 National son deux classement
 differents)</em></strong></p>
 
 <p><em>Attention, il faudra
 simplement presenter au greffe votre licence dematerialisee avec
 photo sur le support de votre choix (papier, portable tablette
 etc..). Vous pourrez l'accompagner de votre passeport d'Archer. En
 cas d'oubli de la licence, vous pourrez presenter une piece
 d'identite avec photo</em></p>
 
 <p><a
 href="https://admin.sportsregions.fr/media/uploaded/sites/3197/kcupload/files/SCEAUX%20FONTENAY%20AUX%20ROSES%20TAE%20DI%20DN%20LES%2013%20ET%2014%20JUIN%202026.pdf"
 target="_blank" rel="noreferrer
 noopener"><strong>MANDAT </strong></a>      <a
 href="https://admin.sportsregions.fr/media/uploaded/sites/3197/kcupload/files/PLAN%20SCEAUX.png"
 target="_blank" rel="noreferrer noopener"><strong>PLAN
 ACCES</strong></a></p>
URL;VALUE=URI:https://archers-donjon-91.sportsregions.fr/evenements/2026/06/13/sceaux-fontenay-aux-roses-tae-international-et-national-les-13-et-14-juin-2026-2440093
END:VEVENT
END:VCALENDAR
