BEGIN:VCALENDAR
VERSION:2.0
PRODID:-//hacksw/handcal//NONSGML v1.0//EN
BEGIN:VEVENT
SUMMARY:ORSAY CHPT Regional IdF de Tir CAMPAGNE le 31 mai 2026
UID:d05f0c9b-ace2-42e4-bba8-a80afcc2db62
DTSTART:20260530T220000Z
DTEND:20260531T220000Z
LOCATION:Localisation   
CATEGORIES:Sportif
STATUS:
DESCRIPTION:<p><b>ORSAY (91)  Championnat Regional CAMPAGNE le 31
 mai 2026       <span
 style="color:#e74c3c;">selon QUOTATS</span></b></p>
 
 <p>Si vous etes
 interesses  et que vous etes<strong> uniquement Archer du
 Donjon</strong>,<span style="color:#e74c3c;"><strong> Contactez  le
 Comite Regional Ile de France pour vous y inscrire
 sous  </strong></span><span
 style="color:#2980b9;"><strong>https://www.tiralarcidf.com</strong></span></p>
 
 <p><strong>Ceci
 afin de leur preciser les informations utiles avec votre Nom et
 Prenom ainsi que  votre arme et  le  N° de licence. (<span
 style="color:#8e44ad;">Voir les modalites sur le Site du
 Comite)</span></strong></p>
 
 <p><strong><em>Il est a noter que nous
 prenons en charge <u>qu'un seul engagement sur tous les
 departs</u> , concernant une meme
 arme </em></strong></p>
 
 <p><em>Attention, il faudra
 simplement presenter au greffe votre licence dematerialisee avec
 photo sur le support de votre choix (papier, portable tablette
 etc..). Vous pourrez l'accompagner de votre passeport d'Archer. En
 cas d'oubli de la licence, vous pourrez presenter une piece
 d'identite avec photo.</em></p>
 
 <p><em> </em><strong><a
 href="https://admin.sportsregions.fr/media/uploaded/sites/3197/kcupload/files/ORSAY%20Chpt%20IdF%20CAMPAGNE%20le%2031%20mai%202026.pdf"
 target="_blank" rel="noreferrer noopener"><span
 style="color:#d35400;"> MANDAT</span></a> </strong><em>  
   </em><a
 href="https://admin.sportsregions.fr/media/uploaded/sites/3197/kcupload/files/QUOTAS%20CR%20CAMPAGNE%20ORSAY.pdf"
 target="_blank" rel="noreferrer noopener"><span
 style="color:#8e44ad;"><strong>QUOTAS acceptes</strong></span></a> 
   <a
 href="https://admin.sportsregions.fr/media/uploaded/sites/3197/kcupload/files/Plan%20ORSAY.png"
 target="_blank" rel="noreferrer noopener"><span
 style="color:#16a085;"><strong>PLAN ACCES</strong></span></a></p>
URL;VALUE=URI:https://archers-donjon-91.sportsregions.fr/evenements/2026/05/31/orsay-chpt-regional-idf-de-tir-campagne-le-31-mai-2026-2438084
END:VEVENT
END:VCALENDAR
