BEGIN:VCALENDAR
VERSION:2.0
PRODID:-//hacksw/handcal//NONSGML v1.0//EN
BEGIN:VEVENT
SUMMARY:ORSAY Tir en Campagne le 30 mai 2026 (CHALLENGE PRO-FIRST)
UID:b6876cc0-b73e-4cf6-ab7d-82c70362aa6f
DTSTART:20260529T220000Z
DTEND:20260530T220000Z
LOCATION:Localisation   
CATEGORIES:Sportif
STATUS:
DESCRIPTION:<p><b>ORSAY Tir en Campagne le 30 mai 2026   
 (CHALLENGE  PRO-FIRST)</b></p>
 
 <p>Si vous etes interesses  et que
 vous etes<strong> uniquement Archer du
 Donjon</strong>,  contactez le secretaire   <a
 href="mailto:secr.archersdonjon91@free.fr"><font size="2"><font
 face="Tahoma, Geneva, sans-serif"><span style="font-size:10pt;"><span
 style="font-family:Tahoma;">secr.archersdonjon91@free.fr</span></span></font></font></a>  </p>
 
 <p><strong>Pour
 vous inscrire lui confirmer  votre Nom et Prenom ainsi que  votre
 arme et  le  N° de licence </strong></p>
 
 <p><strong><em>Il est a
 noter que nous prenons en charge <u>qu'un seul engagement sur tous
 les departs</u> , concernant une meme
 arme </em></strong></p>
 
 <p><em>Attention, il faudra
 simplement presenter au greffe votre licence dematerialisee avec
 photo sur le support de votre choix (papier, portable tablette
 etc..). Vous pourrez l'accompagner de votre passeport d'Archer. En
 cas d'oubli de la licence, vous pourrez presenter une piece
 d'identite avec photo</em></p>
 
 <p><a
 href="https://admin.sportsregions.fr/media/uploaded/sites/3197/kcupload/files/ORSAY%20Campagne%2030%20mai%202026.pdf"
 target="_blank" rel="noreferrer noopener"><span
 style="color:#d35400;"><strong>MANDAT </strong></span></a><em>   
    </em><a
 href="https://admin.sportsregions.fr/media/uploaded/sites/3197/kcupload/files/ORSAY%201%20CH.pdf"
 target="_blank" rel="noreferrer noopener"><span
 style="color:#8e44ad;"><strong>ENVOI</strong></span></a></p>
URL;VALUE=URI:https://archers-donjon-91.sportsregions.fr/evenements/2026/05/30/orsay-tir-en-campagne-le-30-mai-2026-challenge-pro-first-2439119
END:VEVENT
END:VCALENDAR
