BEGIN:VCALENDAR
VERSION:2.0
PRODID:-//hacksw/handcal//NONSGML v1.0//EN
BEGIN:VEVENT
SUMMARY:DOURDAN TAE International et National ouvert aux PARA le 30 mai 2026
UID:7ae0e4f1-15ae-4405-8c99-3992d5da1fe0
DTSTART:20260529T220000Z
DTEND:20260530T220000Z
LOCATION:Localisation   
CATEGORIES:Sportif
STATUS:
DESCRIPTION:<p><b>DOURDAN TAE International et  National ouvert aux
 PARA le 30 mai 2026</b></p>
 
 <p>Si vous etes interesses  et que vous
 etes<strong> uniquement Archer du
 Donjon</strong>,  contactez le secretaire   <a
 href="mailto:secr.archersdonjon91@free.fr"><font size="2"><font
 face="Tahoma, Geneva, sans-serif"><span style="font-size:10pt;"><span
 style="font-family:Tahoma;">secr.archersdonjon91@free.fr</span></span></font></font></a>  </p>
 
 <p><strong>Pour
 vous inscrire lui preciser si Interrnational ou National (ou les 2)
 ou si PARA avec l'heure du depart, puis votre Nom et Prenom ainsi
 que  votre arme et  le  N° de
 licence </strong></p>
 
 <p><strong><em>Il est a noter que nous
 prenons en charge <u>qu'un seul engagement sur tous les
 departs</u> , concernant une meme arme (International et National
 son deux classement differents)</em></strong></p>
 
 <p><em>Attention,
 il faudra simplement presenter au greffe votre licence
 dematerialisee avec photo sur le support de votre choix (papier,
 portable tablette etc..). Vous pourrez l'accompagner de votre
 passeport d'Archer. En cas d'oubli de la licence, vous pourrez
 presenter une piece d'identite avec photo</em></p>
 
 <p><a
 href="https://admin.sportsregions.fr/media/uploaded/sites/3197/kcupload/files/DOURDAN%20TAE%20I%20et%20N%20et%20PARA%2030%20mai%202026.pdf"
 target="_blank" rel="noreferrer noopener"><span
 style="color:#d35400;"><strong>MANDAT</strong></span></a><span
 style="color:#d35400;"> </span>   <a
 href="https://admin.sportsregions.fr/media/uploaded/sites/3197/kcupload/files/DOURDAN%20PARA%20CH.pdf"
 target="_blank" rel="noreferrer noopener"><span
 style="color:#8e44ad;"> </span></a><strong><a
 href="https://admin.sportsregions.fr/media/uploaded/sites/3197/kcupload/files/DOURDAN%20PARA%20CH.pdf"
 target="_blank" rel="noreferrer noopener"><span
 style="color:#8e44ad;">ENVOI PARA </span></a>     <a
 href="https://admin.sportsregions.fr/media/uploaded/sites/3197/kcupload/files/DOURDAN%20CH.pdf"
 target="_blank" rel="noreferrer noopener"><span
 style="color:#16a085;">ENVOI VALIDES</span></a></strong></p>
URL;VALUE=URI:https://archers-donjon-91.sportsregions.fr/evenements/2026/05/30/dourdan-tae-international-et-national-ouvert-aux-para-le-30-mai-2026-2427328
END:VEVENT
END:VCALENDAR
