BEGIN:VCALENDAR
VERSION:2.0
PRODID:-//hacksw/handcal//NONSGML v1.0//EN
BEGIN:VEVENT
SUMMARY:CESSON SEVIGNE RUN ARCHERY 24 mai 2026
UID:715c04de-5860-4c27-9784-25117313b4cd
DTSTART:20260523T220000Z
DTEND:20260524T220000Z
LOCATION:Localisation   
CATEGORIES:Sportif
STATUS:
DESCRIPTION:<p><b>CESSON SEVIGNE  Run Archery le 24 mai
 2026</b></p>
 
 <p>Si vous etes interesses  et que vous etes<strong>
 uniquement Archer du Donjon</strong>,  contactez le secretaire 
  <a href="mailto:secr.archersdonjon91@free.fr"><font size="2"><font
 face="Tahoma, Geneva, sans-serif"><span style="font-size:10pt;"><span
 style="font-family:Tahoma;">secr.archersdonjon91@free.fr</span></span></font></font></a>  </p>
 
 <p><strong>Pour
 vous inscrire lui preciser votre Nom et Prenom ainsi que  votre arme
 et  le  N° de licence </strong></p>
 
 <p><em>Attention, il faudra
 simplement presenter au greffe votre licence dematerialisee avec
 photo sur le support de votre choix (papier, portable tablette
 etc..). Vous pourrez l'accompagner de votre passeport d'Archer. En
 cas d'oubli de la licence, vous pourrez presenter une piece
 d'identite avec photo</em></p>
 
 <p><a
 href="https://admin.sportsregions.fr/media/uploaded/sites/3197/kcupload/files/CESSON%20SEVIGNE%2024%20mai%202026%20RUN%20ARCHERY.pdf"
 target="_blank" rel="noreferrer
 noopener"><strong>MANDAT</strong></a>   <strong> <a
 href="https://admin.sportsregions.fr/media/uploaded/sites/3197/kcupload/files/PLAN%20CESSON.png"
 target="_blank" rel="noreferrer noopener">PLAN ACCES</a></strong></p>
URL;VALUE=URI:https://archers-donjon-91.sportsregions.fr/evenements/2026/05/24/cesson-sevigne-run-archery-24-mai-2026-2443082
END:VEVENT
END:VCALENDAR
