BEGIN:VCALENDAR
VERSION:2.0
PRODID:-//hacksw/handcal//NONSGML v1.0//EN
BEGIN:VEVENT
SUMMARY:MONTREUIL Etape 2 DR 2026 (TAE I ) les 23 et 24 mai 2026
UID:a12ff7b2-0128-4990-8679-90884a6706c5
DTSTART:20260522T220000Z
DTEND:20260524T220000Z
LOCATION:Localisation   
CATEGORIES:Sportif
STATUS:
DESCRIPTION:<p><b>MONTREUIL 2eme manche de la DR 2026  (Equipe) pour
 TEA International les 23 et 24 mai 2026   (Voir sur le mandat jours
 fixes selon sexe et arme)</b></p>
 
 <p>Si vous etes interesses  et
 que vous etes<strong> uniquement Archer du
 Donjon</strong>,  contactez le secretaire   <a
 href="mailto:secr.archersdonjon91@free.fr"><font size="2"><font
 face="Tahoma, Geneva, sans-serif"><span style="font-size:10pt;"><span
 style="font-family:Tahoma;">secr.archersdonjon91@free.fr</span></span></font></font></a>  </p>
 
 <p><strong>Pour
 vous inscrire lui preciser le jour  du depart selon Equipe et arme,
 puis les  Noms et Prenoms ainsi que  les armes et  les  N° de
 licence </strong></p>
 
 <p><strong><em>Il est a noter que nous
 prenons en charge <u>qu'un seul engagement sur tous les
 departs</u> , concernant une meme arme (International et National
 son deux classement differents)</em></strong></p>
 
 <p><em>Attention,
 il faudra simplement presenter au greffe votre licence
 dematerialisee avec photo sur le support de votre choix (papier,
 portable tablette etc..). Vous pourrez l'accompagner de votre
 passeport d'Archer. En cas d'oubli de la licence, vous pourrez
 presenter une piece d'identite avec photo</em></p>
 
 <p><a
 href="https://admin.sportsregions.fr/media/uploaded/sites/3197/kcupload/files/MONTREUIL%20Manche%202%20DR%202026%20TAE%20I%2023%20et%2024%20maiu%202026.pdf"
 target="_blank" rel="noreferrer
 noopener"><strong>MANDAT</strong></a></p>
URL;VALUE=URI:https://archers-donjon-91.sportsregions.fr/evenements/2026/05/23/montreuil-etape-2-dr-2026-tae-i-les-23-et-24-mai-2026-2436292
END:VEVENT
END:VCALENDAR
