BEGIN:VCALENDAR
VERSION:2.0
PRODID:-//hacksw/handcal//NONSGML v1.0//EN
BEGIN:VEVENT
SUMMARY:Les ANDELYS (27) TAE Distances Internationales et Nationales les 23 et 24 mai 2026 (Ouvert aux PARA)
UID:e2913dd4-ec1b-454f-a822-4ba6ba847c6e
DTSTART:20260522T220000Z
DTEND:20260524T220000Z
LOCATION:Localisation   
CATEGORIES:Sportif
STATUS:
DESCRIPTION:<p><b>Les ANDELYS (27) TAE distances Internationales et
 Nationales les 23 et 24 mai 2026       <span
 style="color:#8e44ad;">(Ouvert aux PARA)</span></b></p>
 
 <p>Si vous
 etes interesses  et que vous etes<strong> uniquement Archer du
 Donjon</strong>,  contactez le secretaire   <a
 href="mailto:secr.archersdonjon91@free.fr"><font size="2"><font
 face="Tahoma, Geneva, sans-serif"><span style="font-size:10pt;"><span
 style="font-family:Tahoma;">secr.archersdonjon91@free.fr</span></span></font></font></a>  </p>
 
 <p><strong>Pour
 vous inscrire lui preciser le jour et l'heure pour si Interrnational
 ou National (ou les 2)  si PARA, puis votre Nom et Prenom ainsi
 que  votre arme et  le  N° de
 licence </strong></p>
 
 <p><strong><em>Il est a noter que nous
 prenons en charge <u>qu'un seul engagement sur tous les
 departs</u> , concernant une meme arme (International et National
 son deux classement differents)</em></strong></p>
 
 <p><em>Attention,
 il faudra simplement presenter au greffe votre licence
 dematerialisee avec photo sur le support de votre choix (papier,
 portable tablette etc..). Vous pourrez l'accompagner de votre
 passeport d'Archer. En cas d'oubli de la licence, vous pourrez
 presenter une piece d'identite avec photo</em></p>
 
 <p><a
 href="https://admin.sportsregions.fr/media/uploaded/sites/3197/kcupload/files/LES%20ANDELYS%20TAE%20Internationales%20et%20Nationales%20les%2023%20et%2024%20mai%202026%20%2BPARA.pdf"
 target="_blank" rel="noreferrer
 noopener"><strong>MANDAT</strong></a></p>
URL;VALUE=URI:https://archers-donjon-91.sportsregions.fr/evenements/2026/05/23/les-andelys-27-tae-distances-internationales-et-nationales-les-23-et-24-mai-2026-ouvert-aux-para-2441894
END:VEVENT
END:VCALENDAR
