BEGIN:VCALENDAR
VERSION:2.0
PRODID:-//hacksw/handcal//NONSGML v1.0//EN
BEGIN:VEVENT
SUMMARY:CHIRY OURSCAMP (60) Bouquet Provincial les 16 et 17 mai 2026
UID:efb0069e-121d-4aee-980d-eed7b77bcb13
DTSTART:20260515T220000Z
DTEND:20260517T220000Z
LOCATION:Localisation   
CATEGORIES:Sportif
STATUS:
DESCRIPTION:<p><span style="font-size:22px;"><span
 style="color:#8e44ad;"><strong>CHIRY-OURSCAMP (60)  BOUQUET
 PROVINCIAL 2026</strong></span></span></p>
 
 <p><a
 href="https://admin.sportsregions.fr/media/uploaded/sites/3197/kcupload/files/BOUQUET%202026.pdf"
 target="_blank" rel="noreferrer noopener"><span
 style="color:#16a085;"><span style="font-size:22px;">Son
 Deroulement</span></span></a></p>
URL;VALUE=URI:https://archers-donjon-91.sportsregions.fr/evenements/2026/05/16/chiry-ourscamp-60-bouquet-provincial-les-16-et-17-mai-2026-2442627
END:VEVENT
END:VCALENDAR
