BEGIN:VCALENDAR
VERSION:2.0
PRODID:-//hacksw/handcal//NONSGML v1.0//EN
BEGIN:VEVENT
SUMMARY:AMBOISE Tir Campagne le 14 mai 2026
UID:30fa7c2b-1d2b-4c9a-a553-7c906c17c080
DTSTART:20260513T220000Z
DTEND:20260514T220000Z
LOCATION:Localisation   
CATEGORIES:Sportif
STATUS:
DESCRIPTION:<p><b>AMBOISE (37)  Tir en Campagne le jeudi 14 mai
 2026</b></p>
 
 <p>Si vous etes interesses  et que vous etes<strong>
 uniquement Archer du Donjon</strong>,  contactez le secretaire 
  <a href="mailto:secr.archersdonjon91@free.fr"><font size="2"><font
 face="Tahoma, Geneva, sans-serif"><span style="font-size:10pt;"><span
 style="font-family:Tahoma;">secr.archersdonjon91@free.fr</span></span></font></font></a>  </p>
 
 <p><strong>Pour
 vous inscrire lui confirmer  votre Nom et Prenom ainsi que  votre
 arme et  le  N° de licence </strong></p>
 
 <p><strong><em>Il est a
 noter que nous prenons en charge <u>qu'un seul engagement sur tous
 les departs</u> , concernant une meme
 arme </em></strong></p>
 
 <p><em>Attention, il faudra
 simplement presenter au greffe votre licence dematerialisee avec
 photo sur le support de votre choix (papier, portable tablette
 etc..). Vous pourrez l'accompagner de votre passeport d'Archer. En
 cas d'oubli de la licence, vous pourrez presenter une piece
 d'identite avec photo</em></p>
 
 <p><a
 href="https://admin.sportsregions.fr/media/uploaded/sites/3197/kcupload/files/AMBOISE%20Campagne%2014%20mai%202026.pdf"
 target="_blank" rel="noreferrer
 noopener"><strong>MANDAT </strong></a>       <a
 href="https://admin.sportsregions.fr/media/uploaded/sites/3197/kcupload/files/AMBOISE%20CH.pdf"
 target="_blank" rel="noreferrer noopener"><strong>
 ENVOI</strong></a></p>
URL;VALUE=URI:https://archers-donjon-91.sportsregions.fr/evenements/2026/05/14/amboise-tir-campagne-le-14-mai-2026-2434009
END:VEVENT
END:VCALENDAR
