BEGIN:VCALENDAR
VERSION:2.0
PRODID:-//hacksw/handcal//NONSGML v1.0//EN
BEGIN:VEVENT
SUMMARY:PITHIVIERS (45) TAE Distances Internationales et Distances Nationales le 9 mai ouvert PARA
UID:12f30f39-6a82-484a-a4f7-37a2d9f4db21
DTSTART:20260508T220000Z
DTEND:20260509T220000Z
LOCATION:Localisation   
CATEGORIES:Sportif
STATUS:
DESCRIPTION:<p>PITHIVIERS (45)   TAE distances Internationales et
 Nationales le 9 mai 2026 ouvert PARA</p>
 
 <p><span
 style="color:#8e44ad;"><strong>En l'absence de demande, les 
 inscriptions "Intranet" sont  closes le
 19/04/2026</strong><strong>    </strong></span><span
 style="color:#e74c3c;"><strong>Ne plus contacter par Mail pour
 demander votre engagement sur ce
 concours</strong> </span></p>
 
 <p><span
 style="color:#8e44ad;"><strong>Si vous souhaitez tout de meme
 participer a ce concours a un autre depart
 </strong>  <strong>,</strong></span><span
 style="color:#e74c3c;"><strong> <u>vous devrez demander votre
 inscription  vous meme aupres de
 Pithiviers</u></strong></span></p>
 
 <p><strong><em>Il est a noter que
 nous prenons en charge <u>qu'un seul engagement sur tous les
 departs</u> , concernant une meme arme (International et National
 son deux classement differents)</em></strong></p>
 
 <p><em>Attention,
 il faudra simplement presenter au greffe votre licence
 dematerialisee avec photo sur le support de votre choix (papier,
 portable tablette etc..). Vous pourrez l'accompagner de votre
 passeport d'Archer. En cas d'oubli de la licence, vous pourrez
 presenter une piece d'identite avec photo</em></p>
 
 <p><a
 href="https://admin.sportsregions.fr/media/uploaded/sites/3197/kcupload/files/PITHIVIERS%20TAE%20I%20et%20TAE%20N%20le%209%20mai%20ouvert%20PARA.pdf"
 target="_blank" rel="noreferrer
 noopener"><strong>MANDAT</strong></a></p>
URL;VALUE=URI:https://archers-donjon-91.sportsregions.fr/evenements/2026/05/09/pithiviers-45-tae-distances-internationales-et-distances-nationales-le-9-mai-ouvert-para-2440096
END:VEVENT
END:VCALENDAR
