BEGIN:VCALENDAR
VERSION:2.0
PRODID:-//hacksw/handcal//NONSGML v1.0//EN
BEGIN:VEVENT
SUMMARY:HARDRICOURT (78) Chpt Regional Beursault le 8 mai 2026 sur qualification
UID:c0aa2c26-bf0a-4b7c-b138-1d7baa3a77c8
DTSTART:20260507T220000Z
DTEND:20260508T220000Z
LOCATION:Localisation   
CATEGORIES:Sportif
STATUS:
DESCRIPTION:<p><b> HARDRICOURT (78)  Championnat Regional BEURSAULT
 sur qualification le 8 mai 2026</b></p>
 
 <p><span
 style="color:#8e44ad;"><strong>Les  inscriptions "Intranet" sont 
 closes le19/04/2026</strong><strong>    </strong></span><span
 style="color:#e74c3c;"><strong>Ne plus contacter par Mail pour
 demander votre engagement sur ce
 concours</strong> </span></p>
 
 <p><span
 style="color:#8e44ad;"><strong>Si vous souhaitez tout de meme
 participer a ce
 concours</strong><strong>,</strong><strong> </strong></span><span
 style="color:#e74c3c;"><strong><u>vous devrez demander votre
 inscription  vous meme aupres de la Ligue
 IdF</u></strong></span></p>
 
 <p><strong><em>Il est a noter que nous
 prenons en charge <u>qu'un seul engagement sur tous les
 departs</u> , concernant une meme
 arme </em></strong></p>
 
 <p><em>Attention, il faudra
 simplement presenter au greffe votre licence dematerialisee avec
 photo sur le support de votre choix (papier, portable tablette
 etc..). Vous pourrez l'accompagner de votre passeport d'Archer. En
 cas d'oubli de la licence, vous pourrez presenter une piece
 d'identite avec photo.</em></p>
 
 <p><strong><a
 href="https://admin.sportsregions.fr/media/uploaded/sites/3197/kcupload/files/HARDRICOURT%20CR%20BEURSAULT%20le%208%20mai%202026.pdf"
 target="_blank" rel="noreferrer noopener"><span
 style="color:#8e44ad;">MANDAT </span></a>   <a
 href="https://admin.sportsregions.fr/media/uploaded/sites/3197/kcupload/files/MODALITES%208%20mai%202026.png"
 target="_blank" rel="noreferrer noopener"><span
 style="color:#e74c3c;">MODALITE pour TROUVER seuils des
 qualifications</span></a>              <a
 href="https://admin.sportsregions.fr/media/uploaded/sites/3197/kcupload/files/HARDICOURT%20IdF.pdf"
 target="_blank" rel="noreferrer noopener"><span
 style="color:#e74c3c;"> </span><span
 style="color:#16a085;">ENVOYES</span></a></strong></p>
URL;VALUE=URI:https://archers-donjon-91.sportsregions.fr/evenements/2026/05/08/hardricourt-78-chpt-regional-beursault-le-8-mai-2026-sur-qualification-2435128
END:VEVENT
END:VCALENDAR
