BEGIN:VCALENDAR
VERSION:2.0
PRODID:-//hacksw/handcal//NONSGML v1.0//EN
BEGIN:VEVENT
SUMMARY:DREUX (28) TAE distances Internationales et Nationales les 2 et 3 mai 2026
UID:8c8121ae-c02d-4414-906f-f679af6a5a0c
DTSTART:20260501T220000Z
DTEND:20260503T220000Z
LOCATION:Localisation   
CATEGORIES:Sportif
STATUS:
DESCRIPTION:<p>DREUX (28)  TAE distances Internationales et
 Nationales les 2 et 3 mai 2026</p>
 
 <p><span
 style="color:#8e44ad;"><strong>En l'absence de demande, les 
 inscriptions "Intranet" sont  close le
 17/04/2026</strong><strong> </strong><strong> </strong></span><span
 style="color:#e74c3c;"><strong>Ne plus contacter par Mail pour
 demander votre engagement sur ce
 concours</strong> </span></p>
 
 <p><span
 style="color:#8e44ad;"><strong>Si vous souhaitez tout de meme
 participer a ce concours a un autre depart
 </strong>  <strong>,</strong><strong> </strong></span><span
 style="color:#e74c3c;"><strong><u>vous devrez demander votre
 inscription  vous meme</u></strong></span></p>
 
 <p><strong><em>Il
 est a noter que nous prenons en charge <u>qu'un seul engagement sur
 tous les departs</u> , concernant une meme arme (International et
 National son deux classement
 differents)</em></strong></p>
 
 <p><em>Attention, il faudra
 simplement presenter au greffe votre licence dematerialisee avec
 photo sur le support de votre choix (papier, portable tablette
 etc..). Vous pourrez l'accompagner de votre passeport d'Archer. En
 cas d'oubli de la licence, vous pourrez presenter une piece
 d'identite avec photo</em></p>
 
 <p><a
 href="https://admin.sportsregions.fr/media/uploaded/sites/3197/kcupload/files/DREUX%20TAE%20DI%20DN%20les%202%20et%203%20mai%202026.pdf"
 target="_blank" rel="noreferrer
 noopener"><strong>MANDAT</strong></a></p>
URL;VALUE=URI:https://archers-donjon-91.sportsregions.fr/evenements/2026/05/02/dreux-28-tae-distances-internationales-et-nationales-les-2-et-3-mai-2026-2440097
END:VEVENT
END:VCALENDAR
