BEGIN:VCALENDAR
VERSION:2.0
PRODID:-//hacksw/handcal//NONSGML v1.0//EN
BEGIN:VEVENT
SUMMARY:MONTIGNY le GANNELON (28) RUN ARCHERY le 26 avril 2024
UID:1a1dbfca-3569-4b15-92c3-69658b37f659
DTSTART:20260425T220000Z
DTEND:20260426T220000Z
LOCATION:Localisation   
CATEGORIES:Sportif
STATUS:
DESCRIPTION:<p><b>MONTIGNY LE GANNELON (28)   Run Archery le 26
 avril 2026</b></p>
 
 <p>Si vous etes interesses  et que vous
 etes<strong> uniquement Archer du
 Donjon</strong>,  contactez le secretaire   <a
 href="mailto:secr.archersdonjon91@free.fr"><font size="2"><font
 face="Tahoma, Geneva, sans-serif"><span style="font-size:10pt;"><span
 style="font-family:Tahoma;">secr.archersdonjon91@free.fr</span></span></font></font></a>  </p>
 
 <p><strong>Pour
 vous inscrire lui preciser votre Nom et Prenom ainsi que  votre arme
 et  le  N° de licence </strong></p>
 
 <p><em>Attention, il faudra
 simplement presenter au greffe votre licence dematerialisee avec
 photo sur le support de votre choix (papier, portable tablette
 etc..). Vous pourrez l'accompagner de votre passeport d'Archer. En
 cas d'oubli de la licence, vous pourrez presenter une piece
 d'identite avec photo</em></p>
 
 <p><a
 href="https://admin.sportsregions.fr/media/uploaded/sites/3197/kcupload/files/MONTIGNY.pdf"
 target="_blank" rel="noreferrer
 noopener"><strong>MANDAT</strong></a>         <strong> <a
 href="https://admin.sportsregions.fr/media/uploaded/sites/3197/kcupload/files/MONTIGNY%20PLAN.png"
 target="_blank" rel="noreferrer noopener">PLAN ACCES</a> </strong>
      <a
 href="https://admin.sportsregions.fr/media/uploaded/sites/3197/kcupload/files/Montigny%20Programme.png"
 target="_blank" rel="noreferrer
 noopener"><strong>PROGRAMME</strong></a>       <strong><a
 href="https://admin.sportsregions.fr/media/uploaded/sites/3197/kcupload/files/Montigny%20modalit%C3%A9s.png"
 target="_blank" rel="noreferrer noopener">MODALITES</a></strong></p>
URL;VALUE=URI:https://archers-donjon-91.sportsregions.fr/evenements/2026/04/26/montigny-le-gannelon-28-run-archery-le-26-avril-2024-2440205
END:VEVENT
END:VCALENDAR
